BEGIN:VCALENDAR
VERSION:2.0
PRODID:-//192.185.180.67//NONSGML kigkonsult.se iCalcreator 2.20//
CALSCALE:GREGORIAN
METHOD:PUBLISH
X-WR-CALNAME:ASEAN
X-WR-CALDESC:
X-FROM-URL:http://asean.org.nz
X-WR-TIMEZONE:Pacific/Auckland
BEGIN:VTIMEZONE
TZID:Pacific/Auckland
X-LIC-LOCATION:Pacific/Auckland
BEGIN:STANDARD
DTSTART:20180401T030000
TZOFFSETFROM:+1300
TZOFFSETTO:+1200
TZNAME:NZST
END:STANDARD
BEGIN:DAYLIGHT
DTSTART:20170924T020000
TZOFFSETFROM:+1200
TZOFFSETTO:+1300
TZNAME:NZDT
END:DAYLIGHT
END:VTIMEZONE
BEGIN:VEVENT
UID:ai1ec-3174@asean.org.nz
DTSTAMP:20180123T171411Z
CATEGORIES:
CONTACT:
DESCRIPTION:ECM at 4pm\, followed by AGM at 5pm at ANZ Bank
DTSTART;TZID=Pacific/Auckland:20160615T160000
DTEND;TZID=Pacific/Auckland:20160615T190000
GEO:-36.84846;+174.763332
LOCATION:ANZ @ Auckland\, New Zealand
SEQUENCE:0
SUMMARY:ANZBC AGM to Follow ECM
URL:http://asean.org.nz/event/anzbc-agm/
X-COST-TYPE:free
X-ALT-DESC;FMTTYPE=text/html:<!DOCTYPE HTML PUBLIC '-//W3C//DTD HTML 3.2//E
 N'>\\n<HTML>\\n<HEAD>\\n<TITLE></TITLE>\\n</HEAD>\\n<BODY><p>ECM at 4pm\, 
 followed by AGM at 5pm at ANZ Bank</p>\n</BODY></HTML>
END:VEVENT
END:VCALENDAR
