BEGIN:VCALENDAR
VERSION:2.0
PRODID:-//192.185.180.67//NONSGML kigkonsult.se iCalcreator 2.20//
CALSCALE:GREGORIAN
METHOD:PUBLISH
X-WR-CALNAME:ASEAN
X-WR-CALDESC:
X-FROM-URL:http://asean.org.nz
X-WR-TIMEZONE:Pacific/Auckland
BEGIN:VTIMEZONE
TZID:Pacific/Auckland
X-LIC-LOCATION:Pacific/Auckland
BEGIN:STANDARD
DTSTART:20180401T030000
TZOFFSETFROM:+1300
TZOFFSETTO:+1200
TZNAME:NZST
END:STANDARD
BEGIN:DAYLIGHT
DTSTART:20170924T020000
TZOFFSETFROM:+1200
TZOFFSETTO:+1300
TZNAME:NZDT
END:DAYLIGHT
END:VTIMEZONE
BEGIN:VEVENT
UID:ai1ec-3241@asean.org.nz
DTSTAMP:20180123T171449Z
CATEGORIES:
CONTACT:
DESCRIPTION:
DTSTART;TZID=Pacific/Auckland:20160615T180000
DTEND;TZID=Pacific/Auckland:20160615T210000
GEO:-41.28431;+174.774911
LOCATION:Asia New Zealand Foundation @ 141 The Terrace\, Wellington\, Welli
 ngton 6011\, New Zealand
SEQUENCE:0
SUMMARY:ASIA NZ Foundation event – Wellington
URL:http://asean.org.nz/event/asia-nz-foundation-event-wellington/
X-COST-TYPE:free
END:VEVENT
END:VCALENDAR
