BEGIN:VCALENDAR
VERSION:2.0
PRODID:-//192.185.180.67//NONSGML kigkonsult.se iCalcreator 2.20//
CALSCALE:GREGORIAN
METHOD:PUBLISH
X-WR-CALNAME:ASEAN
X-WR-CALDESC:
X-FROM-URL:http://asean.org.nz
X-WR-TIMEZONE:Pacific/Auckland
BEGIN:VTIMEZONE
TZID:Pacific/Auckland
X-LIC-LOCATION:Pacific/Auckland
BEGIN:STANDARD
DTSTART:20180401T030000
TZOFFSETFROM:+1300
TZOFFSETTO:+1200
TZNAME:NZST
END:STANDARD
BEGIN:DAYLIGHT
DTSTART:20170924T020000
TZOFFSETFROM:+1200
TZOFFSETTO:+1300
TZNAME:NZDT
END:DAYLIGHT
END:VTIMEZONE
BEGIN:VEVENT
UID:ai1ec-3245@asean.org.nz
DTSTAMP:20180123T171557Z
CATEGORIES:
CONTACT:
DESCRIPTION:Tailored one-on-one business matching\, site visits\, networkin
 g and market overviews
DTSTART;TZID=Pacific/Auckland:20160815T070000
SEQUENCE:0
SUMMARY:Business Mission to Thailand and Malaysia
URL:http://asean.org.nz/event/business-mission-to-thailand-and-malaysia/
X-COST-TYPE:free
X-ALT-DESC;FMTTYPE=text/html:<!DOCTYPE HTML PUBLIC '-//W3C//DTD HTML 3.2//E
 N'>\\n<HTML>\\n<HEAD>\\n<TITLE></TITLE>\\n</HEAD>\\n<BODY><p><span id='yui
 _3_16_0_ym19_1_1461736969584_15189'>Tailored one-on-one business matching\
 , site visits\, networking and market overviews </span></p>\n</BODY></HTML
 >
X-INSTANT-EVENT:1
END:VEVENT
END:VCALENDAR
