BEGIN:VCALENDAR
VERSION:2.0
PRODID:-//192.185.180.67//NONSGML kigkonsult.se iCalcreator 2.20//
CALSCALE:GREGORIAN
METHOD:PUBLISH
X-WR-CALNAME:ASEAN
X-WR-CALDESC:
X-FROM-URL:http://asean.org.nz
X-WR-TIMEZONE:Pacific/Auckland
BEGIN:VTIMEZONE
TZID:Pacific/Auckland
X-LIC-LOCATION:Pacific/Auckland
BEGIN:STANDARD
DTSTART:20180401T030000
TZOFFSETFROM:+1300
TZOFFSETTO:+1200
TZNAME:NZST
END:STANDARD
BEGIN:DAYLIGHT
DTSTART:20170924T020000
TZOFFSETFROM:+1200
TZOFFSETTO:+1300
TZNAME:NZDT
END:DAYLIGHT
END:VTIMEZONE
BEGIN:VEVENT
UID:ai1ec-3269@asean.org.nz
DTSTAMP:20180123T171514Z
CATEGORIES:
CONTACT:
DESCRIPTION:
DTSTART;TZID=Pacific/Auckland:20160720T173000
DTEND;TZID=Pacific/Auckland:20160720T193000
GEO:-36.847489;+174.758795
LOCATION:Augen Software Office @ 151 Victoria St W\, Auckland\, Auckland 10
 10\, New Zealand
SEQUENCE:0
SUMMARY:Vietnam: Why NZ Tech Companies are jumping feet first
URL:http://asean.org.nz/event/vietnam-why-nz-tech-companies-are-jumping-fee
 t-first/
X-COST-TYPE:free
END:VEVENT
END:VCALENDAR
