BEGIN:VCALENDAR
VERSION:2.0
PRODID:-//192.185.180.67//NONSGML kigkonsult.se iCalcreator 2.20//
CALSCALE:GREGORIAN
METHOD:PUBLISH
X-WR-CALNAME:ASEAN
X-WR-CALDESC:
X-FROM-URL:http://asean.org.nz
X-WR-TIMEZONE:Pacific/Auckland
BEGIN:VTIMEZONE
TZID:Pacific/Auckland
X-LIC-LOCATION:Pacific/Auckland
BEGIN:STANDARD
DTSTART:20180401T030000
TZOFFSETFROM:+1300
TZOFFSETTO:+1200
TZNAME:NZST
END:STANDARD
BEGIN:DAYLIGHT
DTSTART:20170924T020000
TZOFFSETFROM:+1200
TZOFFSETTO:+1300
TZNAME:NZDT
END:DAYLIGHT
END:VTIMEZONE
BEGIN:VEVENT
UID:ai1ec-3272@asean.org.nz
DTSTAMP:20180123T171538Z
CATEGORIES:
CONTACT:
DESCRIPTION:Opportunity to present to the buyers\, show products/ samples a
 s well as hear about current retail conditions in Malaysia with buyers fro
 m Malaysian high end (boutique) supermarkets and Malaysian gourmet food di
 stributors.\nExpressions of Interest for this hot event close this Friday\
 , 1st July\nEOI to lbell@asean.org.nz
DTSTART;TZID=Pacific/Auckland:20160727T170000
DTEND;TZID=Pacific/Auckland:20160727T190000
GEO:-36.84846;+174.763332
LOCATION:TBA @ Auckland\, New Zealand
SEQUENCE:0
SUMMARY:NZ Food and Beverage Manufacturers and Exporters
URL:http://asean.org.nz/event/nz-food-and-beverage-manufacturers-and-export
 ers/
X-COST-TYPE:free
X-ALT-DESC;FMTTYPE=text/html:<!DOCTYPE HTML PUBLIC '-//W3C//DTD HTML 3.2//E
 N'>\\n<HTML>\\n<HEAD>\\n<TITLE></TITLE>\\n</HEAD>\\n<BODY><p>Opportunity t
 o present to the buyers\, show products/ samples as well as hear about cur
 rent retail conditions in Malaysia with buyers from Malaysian high end (bo
 utique) supermarkets and Malaysian gourmet food distributors.<br />\nExpre
 ssions of Interest for this hot event close this Friday\, 1st July</p>\n<p
 >EOI to <a href='mailto:lbell@asean.org.nz'>lbell@asean.org.nz</a></p>\n</
 BODY></HTML>
END:VEVENT
END:VCALENDAR
