BEGIN:VCALENDAR
VERSION:2.0
PRODID:-//192.185.180.67//NONSGML kigkonsult.se iCalcreator 2.20//
CALSCALE:GREGORIAN
METHOD:PUBLISH
X-WR-CALNAME:ASEAN
X-WR-CALDESC:
X-FROM-URL:http://asean.org.nz
X-WR-TIMEZONE:Pacific/Auckland
BEGIN:VTIMEZONE
TZID:Pacific/Auckland
X-LIC-LOCATION:Pacific/Auckland
BEGIN:STANDARD
DTSTART:20180401T030000
TZOFFSETFROM:+1300
TZOFFSETTO:+1200
TZNAME:NZST
END:STANDARD
BEGIN:DAYLIGHT
DTSTART:20170924T020000
TZOFFSETFROM:+1200
TZOFFSETTO:+1300
TZNAME:NZDT
END:DAYLIGHT
END:VTIMEZONE
BEGIN:VEVENT
UID:ai1ec-3321@asean.org.nz
DTSTAMP:20180123T171635Z
CATEGORIES:
CONTACT:
DESCRIPTION:Speakers to be confirmed – we’ll let you know once finalised
DTSTART;TZID=Pacific/Auckland:20161026T173000
DTEND;TZID=Pacific/Auckland:20161026T193000
GEO:-41.281744;+174.777879
LOCATION:ANZ Centre @ Featherston St\, Wellington 6011\, New Zealand
SEQUENCE:0
SUMMARY:Market update
URL:http://asean.org.nz/event/market-update/
X-COST-TYPE:free
X-ALT-DESC;FMTTYPE=text/html:<!DOCTYPE HTML PUBLIC '-//W3C//DTD HTML 3.2//E
 N'>\\n<HTML>\\n<HEAD>\\n<TITLE></TITLE>\\n</HEAD>\\n<BODY><p>Speakers to b
 e confirmed – we’ll let you know once finalised</p>\n</BODY></HTML>
END:VEVENT
END:VCALENDAR
