BEGIN:VCALENDAR
VERSION:2.0
PRODID:-//192.185.180.67//NONSGML kigkonsult.se iCalcreator 2.20//
CALSCALE:GREGORIAN
METHOD:PUBLISH
X-WR-CALNAME:ASEAN
X-WR-CALDESC:
X-FROM-URL:http://asean.org.nz
X-WR-TIMEZONE:Pacific/Auckland
BEGIN:VTIMEZONE
TZID:Pacific/Auckland
X-LIC-LOCATION:Pacific/Auckland
BEGIN:STANDARD
DTSTART:20180401T030000
TZOFFSETFROM:+1300
TZOFFSETTO:+1200
TZNAME:NZST
END:STANDARD
BEGIN:DAYLIGHT
DTSTART:20170924T020000
TZOFFSETFROM:+1200
TZOFFSETTO:+1300
TZNAME:NZDT
END:DAYLIGHT
END:VTIMEZONE
BEGIN:VEVENT
UID:ai1ec-3480@asean.org.nz
DTSTAMP:20180123T172244Z
CATEGORIES:
CONTACT:Catherine Lye\; catherine@exportnz.org.nz
DESCRIPTION:(departure and return dates to be confirmed)\nThis business mis
 sion will have an exciting programme packed with one-on-one visits for you
  with key decision makers\, customers and partners\, to help you generate 
 business and learn about the markets.\n \nFor more information and to subm
 it your expression of interest contact ExportNZ regional manager\, Catheri
 ne Lye\, at email catherine@exportnz.org.nz or ASEAN NZ Business Council E
 xecutive Director\, Liz Bell at lbell@asean.org.nz \n 
DTSTART;TZID=Pacific/Auckland:20170805T000000
DTEND;TZID=Pacific/Auckland:20170811T233000
SEQUENCE:0
SUMMARY:ANZBC: Business Mission To Thailand and Viet Nam
URL:http://asean.org.nz/event/business-mission-to-thailand-and-viet-nam/
X-COST-TYPE:free
X-ALT-DESC;FMTTYPE=text/html:<!DOCTYPE HTML PUBLIC '-//W3C//DTD HTML 3.2//E
 N'>\\n<HTML>\\n<HEAD>\\n<TITLE></TITLE>\\n</HEAD>\\n<BODY><p>(departure an
 d return dates to be confirmed)</p>\n<p>This business mission will have an
  exciting programme packed with one-on-one visits for you with key decisio
 n makers\, customers and partners\, to help you generate business and lear
 n about the markets.</p>\n<p> </p>\n<p>For more information and to submit 
 your expression of interest contact ExportNZ regional manager\, Catherine 
 Lye\, at email <a href='mailto:catherine@exportnz.org.nz'>catherine@export
 nz.org.nz</a> or ASEAN NZ Business Council Executive Director\, Liz Bell a
 t <a href='mailto:lbell@asean.org.nz'>lbell@asean.org.nz </a></p>\n<p> </p
 >\n</BODY></HTML>
END:VEVENT
END:VCALENDAR
