BEGIN:VCALENDAR
VERSION:2.0
PRODID:-//192.185.180.67//NONSGML kigkonsult.se iCalcreator 2.20//
CALSCALE:GREGORIAN
METHOD:PUBLISH
X-WR-CALNAME:ASEAN
X-WR-CALDESC:
X-FROM-URL:http://asean.org.nz
X-WR-TIMEZONE:Pacific/Auckland
BEGIN:VTIMEZONE
TZID:Pacific/Auckland
X-LIC-LOCATION:Pacific/Auckland
BEGIN:STANDARD
DTSTART:20180401T030000
TZOFFSETFROM:+1300
TZOFFSETTO:+1200
TZNAME:NZST
END:STANDARD
BEGIN:DAYLIGHT
DTSTART:20170924T020000
TZOFFSETFROM:+1200
TZOFFSETTO:+1300
TZNAME:NZDT
END:DAYLIGHT
END:VTIMEZONE
BEGIN:VEVENT
UID:ai1ec-3499@asean.org.nz
DTSTAMP:20180123T171728Z
CATEGORIES:
CONTACT:Thilaga Sivaraman\; +60103673256\; mnzcc@mnzcc.org.my\; https://www
 .mnzcc.org.my/
DESCRIPTION:Wondering when and where to invest in the NZ property market?\n
 Join Erskine + Owen Director Alan Henderson for an overview and discussion
  on the state of the New Zealand Property Market.\nIf you are a property o
 wner\, or intend to become one .. this presentation will help you make bet
 ter decisions to protect and generate your property wealth.\nPresentation 
 Highlights\n\nWhat impact has the 40% deposit requirement for investors ac
 ross NZ had on the property market?\nHow will the new lending criteria eff
 ect offshore property investors (including Kiwi expats) with an overseas i
 ncome?\nWhat is the likelihood that the proposed debt-to-income ratio lend
 ing policy will be introduced next year – and what will this mean for home
  buyers and investors?\nIs Auckland still the best place to invest\, or sh
 ould you be considering other main cities?\nWhere are we up to with Auckla
 nd’s Unitary Plan and will this be the answer to the supply/ demand imbala
 nce?\nTrump\, Brexit\, how resilient is the NZ economy to international pr
 essures?\nWhat is going to happen to interest rates?\nWhat are the key ing
 redients for a successful long-term investment?\nWhat are our top picks fo
 r areas in NZ with high capital growth?\n\nFor more information\, kindly v
 isit the following link:  https://www.mnzcc.org.my/nz-property-market-upda
 te/\n 
DTSTART;TZID=Pacific/Auckland:20170309T180000
DTEND;TZID=Pacific/Auckland:20170309T210000
GEO:+03.154874;+101.706512
LOCATION:NZTE\, Level 21\, Menara IMC @ 8\, Jalan Sultan Ismail\, Kuala Lum
 pur\, 50250 Kuala Lumpur\, Wilayah Persekutuan Kuala Lumpur\, Malaysia
SEQUENCE:0
SUMMARY:New Zealand Property Market Update
URL:http://asean.org.nz/event/new-zealand-property-market-update/
X-COST-TYPE:free
X-ALT-DESC;FMTTYPE=text/html:<!DOCTYPE HTML PUBLIC '-//W3C//DTD HTML 3.2//E
 N'>\\n<HTML>\\n<HEAD>\\n<TITLE></TITLE>\\n</HEAD>\\n<BODY><p><strong>Wonde
 ring when and where to invest in the NZ property market?</strong></p>\n<p>
 Join Erskine + Owen Director Alan Henderson for an overview and discussion
  on the state of the New Zealand Property Market.</p>\n<p>If you are a pro
 perty owner\, or intend to become one .. this presentation will help you m
 ake better decisions to protect and generate your property wealth.</p>\n<p
 ><strong>Presentation Highlights</strong></p>\n<ul>\n<li>What impact has t
 he 40% deposit requirement for investors across NZ had on the property mar
 ket?</li>\n<li>How will the new lending criteria effect offshore property 
 investors (including Kiwi expats) with an overseas income?</li>\n<li>What 
 is the likelihood that the proposed debt-to-income ratio lending policy wi
 ll be introduced next year – and what will this mean for home buyers and i
 nvestors?</li>\n<li>Is Auckland still the best place to invest\, or should
  you be considering other main cities?</li>\n<li>Where are we up to with A
 uckland’s Unitary Plan and will this be the answer to the supply/ demand i
 mbalance?</li>\n<li>Trump\, Brexit\, how resilient is the NZ economy to in
 ternational pressures?</li>\n<li>What is going to happen to interest rates
 ?</li>\n<li>What are the key ingredients for a successful long-term invest
 ment?</li>\n<li>What are our top picks for areas in NZ with high capital g
 rowth?</li>\n</ul>\n<p>For more information\, kindly visit the following l
 ink:  https://www.mnzcc.org.my/nz-property-market-update/</p>\n<p> </p>\n<
 /BODY></HTML>
END:VEVENT
END:VCALENDAR
