BEGIN:VCALENDAR
VERSION:2.0
PRODID:-//192.185.180.67//NONSGML kigkonsult.se iCalcreator 2.20//
CALSCALE:GREGORIAN
METHOD:PUBLISH
X-WR-CALNAME:ASEAN
X-WR-CALDESC:
X-FROM-URL:http://asean.org.nz
X-WR-TIMEZONE:Pacific/Auckland
BEGIN:VTIMEZONE
TZID:Pacific/Auckland
X-LIC-LOCATION:Pacific/Auckland
BEGIN:STANDARD
DTSTART:20180401T030000
TZOFFSETFROM:+1300
TZOFFSETTO:+1200
TZNAME:NZST
END:STANDARD
BEGIN:DAYLIGHT
DTSTART:20170924T020000
TZOFFSETFROM:+1200
TZOFFSETTO:+1300
TZNAME:NZDT
END:DAYLIGHT
END:VTIMEZONE
BEGIN:VEVENT
UID:ai1ec-3503@asean.org.nz
DTSTAMP:20180123T171808Z
CATEGORIES:
CONTACT:Liz Bell\; http://asean.org.nz/upcoming-events/?ee=31
DESCRIPTION:Don’t miss this opportunity for a practical\, business breakdow
 n and hear from market experts on entering and operating in the Vietnamese
  marketplace. We’re fortunate to have industry leaders with years of on th
 e ground experience.\nPanelists:\nMitchell Pham\, Augen Software\nGrace Ng
 uyen\, NZ Vietnam Ltd
DTSTART;TZID=Pacific/Auckland:20170330T173000
DTEND;TZID=Pacific/Auckland:20170330T193000
GEO:-36.84791;+174.758427
LOCATION:KiwiBank House L2 @ Victoria St W\, Auckland\, New Zealand
SEQUENCE:0
SUMMARY:ANZBC: Vietnam Industry – Tech\, F&B and Retail
URL:http://asean.org.nz/event/vietnam-industry-tech-fb-and-retail/
X-COST-TYPE:free
X-ALT-DESC;FMTTYPE=text/html:<!DOCTYPE HTML PUBLIC '-//W3C//DTD HTML 3.2//E
 N'>\\n<HTML>\\n<HEAD>\\n<TITLE></TITLE>\\n</HEAD>\\n<BODY><p>Don’t miss th
 is opportunity for a practical\, business breakdown and hear from market e
 xperts on entering and operating in the Vietnamese marketplace. We’re fort
 unate to have industry leaders with years of on the ground experience.</p>
 \n<p><strong>Panelists</strong>:</p>\n<p>Mitchell Pham\, Augen Software</p
 >\n<p>Grace Nguyen\, NZ Vietnam Ltd</p>\n</BODY></HTML>
X-COST:$20
END:VEVENT
END:VCALENDAR
