BEGIN:VCALENDAR
VERSION:2.0
PRODID:-//192.185.180.67//NONSGML kigkonsult.se iCalcreator 2.20//
CALSCALE:GREGORIAN
METHOD:PUBLISH
X-WR-CALNAME:ASEAN
X-WR-CALDESC:
X-FROM-URL:http://asean.org.nz
X-WR-TIMEZONE:Pacific/Auckland
BEGIN:VTIMEZONE
TZID:Pacific/Auckland
X-LIC-LOCATION:Pacific/Auckland
BEGIN:STANDARD
DTSTART:20180401T030000
TZOFFSETFROM:+1300
TZOFFSETTO:+1200
TZNAME:NZST
END:STANDARD
BEGIN:DAYLIGHT
DTSTART:20170924T020000
TZOFFSETFROM:+1200
TZOFFSETTO:+1300
TZNAME:NZDT
END:DAYLIGHT
END:VTIMEZONE
BEGIN:VEVENT
UID:ai1ec-3506@asean.org.nz
DTSTAMP:20180123T171840Z
CATEGORIES:
CONTACT:http://asean.org.nz/upcoming-events/?ee=32
DESCRIPTION:The ASEAN NZ Business Council is honoured to host Minister Khai
 ry Jamaluddin\, the Malaysian Minister of Youth and Sport. Minister Khairy
  is coming to New Zealand as an ASEAN Prime Minister’s Fellow.\nHe is an e
 xcellent public speaker and known as a rising star in the Malaysian politi
 cal system.\nHaving spent his formative years in England and graduating fr
 om Oxford\, Minister Khairy is an adept economic and political commentator
 . Prior to entering politics he worked as a journalist\, policy aide and i
 nvestment banker. He has written for many major publications including The
  Economist\, Time\, and the Wall Street Journal.\nThose interested in ASEA
 N wide as well and Malaysian developments will be interested in hearing fr
 om the Minister.\nWith thanks to MFAT Auckland for the hosting of this FRE
 E event.
DTSTART;TZID=Pacific/Auckland:20170405T173000
DTEND;TZID=Pacific/Auckland:20170405T190000
GEO:-36.84233;+174.764797
LOCATION:MFAT Auckland @ 139 Quay St\, Auckland\, 1010\, New Zealand
SEQUENCE:0
SUMMARY:ANZBC: Malaysia Minister Khairy Jamaluddin Keynote Presentation
URL:http://asean.org.nz/event/malaysia-minister-khairy-jamaluddin-keynote-p
 resentation/
X-COST-TYPE:free
X-ALT-DESC;FMTTYPE=text/html:<!DOCTYPE HTML PUBLIC '-//W3C//DTD HTML 3.2//E
 N'>\\n<HTML>\\n<HEAD>\\n<TITLE></TITLE>\\n</HEAD>\\n<BODY><p>The ASEAN NZ 
 Business Council is honoured to host Minister Khairy Jamaluddin\, the Mala
 ysian Minister of Youth and Sport. Minister Khairy is coming to New Zealan
 d as an ASEAN Prime Minister’s Fellow.</p>\n<p>He is an excellent public s
 peaker and known as a rising star in the Malaysian political system.</p>\n
 <p>Having spent his formative years in England and graduating from Oxford\
 , Minister Khairy is an adept economic and political commentator. Prior to
  entering politics he worked as a journalist\, policy aide and investment 
 banker. He has written for many major publications including The Economist
 \, Time\, and the Wall Street Journal.</p>\n<p>Those interested in ASEAN w
 ide as well and Malaysian developments will be interested in hearing from 
 the Minister.</p>\n<p>With thanks to MFAT Auckland for the hosting of this
  FREE event.</p>\n</BODY></HTML>
END:VEVENT
END:VCALENDAR
