BEGIN:VCALENDAR
VERSION:2.0
PRODID:-//192.185.180.67//NONSGML kigkonsult.se iCalcreator 2.20//
CALSCALE:GREGORIAN
METHOD:PUBLISH
X-WR-CALNAME:ASEAN
X-WR-CALDESC:
X-FROM-URL:http://asean.org.nz
X-WR-TIMEZONE:Pacific/Auckland
BEGIN:VTIMEZONE
TZID:Pacific/Auckland
X-LIC-LOCATION:Pacific/Auckland
BEGIN:STANDARD
DTSTART:20180401T030000
TZOFFSETFROM:+1300
TZOFFSETTO:+1200
TZNAME:NZST
END:STANDARD
BEGIN:DAYLIGHT
DTSTART:20170924T020000
TZOFFSETFROM:+1200
TZOFFSETTO:+1300
TZNAME:NZDT
END:DAYLIGHT
END:VTIMEZONE
BEGIN:VEVENT
UID:ai1ec-3519@asean.org.nz
DTSTAMP:20180123T172037Z
CATEGORIES:
CONTACT:Liz Bell\; info@asean.org.nz\; www.asean.org.nz
DESCRIPTION:Save the date for the ASEAN NZ Business Council AGM and Network
 ing evening.\nMore details on the keynote speaker available soon.
DTSTART;TZID=Pacific/Auckland:20170615T170000
DTEND;TZID=Pacific/Auckland:20170615T190000
GEO:-36.847167;+174.76407
LOCATION:ANZ Pavillion @ Albert St\, Auckland\, 1010\, New Zealand
SEQUENCE:0
SUMMARY:ASEAN NZ Business Council – AGM
URL:http://asean.org.nz/event/asean-nz-business-council-agm/
X-COST-TYPE:external
X-ALT-DESC;FMTTYPE=text/html:<!DOCTYPE HTML PUBLIC '-//W3C//DTD HTML 3.2//E
 N'>\\n<HTML>\\n<HEAD>\\n<TITLE></TITLE>\\n</HEAD>\\n<BODY><p>Save the date
  for the ASEAN NZ Business Council AGM and Networking evening.</p>\n<p>Mor
 e details on the keynote speaker available soon.</p>\n</BODY></HTML>
X-COST:TBA
END:VEVENT
END:VCALENDAR
