BEGIN:VCALENDAR
VERSION:2.0
PRODID:-//192.185.180.67//NONSGML kigkonsult.se iCalcreator 2.20//
CALSCALE:GREGORIAN
METHOD:PUBLISH
X-WR-CALNAME:ASEAN
X-WR-CALDESC:
X-FROM-URL:http://asean.org.nz
X-WR-TIMEZONE:Pacific/Auckland
BEGIN:VTIMEZONE
TZID:Pacific/Auckland
X-LIC-LOCATION:Pacific/Auckland
BEGIN:STANDARD
DTSTART:20180401T030000
TZOFFSETFROM:+1300
TZOFFSETTO:+1200
TZNAME:NZST
END:STANDARD
BEGIN:DAYLIGHT
DTSTART:20170924T020000
TZOFFSETFROM:+1200
TZOFFSETTO:+1300
TZNAME:NZDT
END:DAYLIGHT
END:VTIMEZONE
BEGIN:VEVENT
UID:ai1ec-3522@asean.org.nz
DTSTAMP:20180123T171748Z
CATEGORIES:
CONTACT:Ms. Thilaga Sivaraman\; +6010-3673256\; mnzcc@mnzcc.org.my\; https:
 //www.mnzcc.org.my/
DESCRIPTION:MNZCC – Commonwealth Speaker Series VIP Luncheon\nHis Excellenc
 y the Honourable Paul de Jersey AC\nGovernor of Queensland\nDay / Date:  M
 onday / 20th March 2017\nTime: 12.00pm – 2.00pm\nVenue: DoubleTree by Hilt
 on Kuala Lumpur\n \nFor more information\, kindly click the following link
 :  https://www.mnzcc.org.my/commonwealth-speaker-series-vip-luncheon/\n 
DTSTART;TZID=Pacific/Auckland:20170320T120000
DTEND;TZID=Pacific/Auckland:20170320T140000
LOCATION:DoubleTree by Hilton Kuala Lumpur
SEQUENCE:0
SUMMARY:MNZCC – Commonwealth Speaker Series VIP Luncheon
URL:http://asean.org.nz/event/mnzcc-commonwealth-speaker-series-vip-luncheo
 n/
X-COST-TYPE:external
X-ALT-DESC;FMTTYPE=text/html:<!DOCTYPE HTML PUBLIC '-//W3C//DTD HTML 3.2//E
 N'>\\n<HTML>\\n<HEAD>\\n<TITLE></TITLE>\\n</HEAD>\\n<BODY><p style='text-a
 lign: center'><strong>MNZCC – Commonwealth Speaker Series VIP Luncheon</st
 rong></p>\n<p>His Excellency the Honourable Paul de Jersey AC</p>\n<p>Gove
 rnor of Queensland</p>\n<p>Day / Date:  Monday / 20th March 2017</p>\n<p>T
 ime: 12.00pm – 2.00pm</p>\n<p>Venue: DoubleTree by Hilton Kuala Lumpur</p>
 \n<p> </p>\n<p>For more information\, kindly click the following link:  <a
  href='https://www.mnzcc.org.my/commonwealth-speaker-series-vip-luncheon/'
 >https://www.mnzcc.org.my/commonwealth-speaker-series-vip-luncheon/</a></p
 >\n<p> </p>\n</BODY></HTML>
END:VEVENT
END:VCALENDAR
