BEGIN:VCALENDAR
VERSION:2.0
PRODID:-//192.185.180.67//NONSGML kigkonsult.se iCalcreator 2.20//
CALSCALE:GREGORIAN
METHOD:PUBLISH
X-WR-CALNAME:ASEAN
X-WR-CALDESC:
X-FROM-URL:http://asean.org.nz
X-WR-TIMEZONE:Pacific/Auckland
BEGIN:VTIMEZONE
TZID:Pacific/Auckland
X-LIC-LOCATION:Pacific/Auckland
BEGIN:STANDARD
DTSTART:20180401T030000
TZOFFSETFROM:+1300
TZOFFSETTO:+1200
TZNAME:NZST
END:STANDARD
BEGIN:DAYLIGHT
DTSTART:20170924T020000
TZOFFSETFROM:+1200
TZOFFSETTO:+1300
TZNAME:NZDT
END:DAYLIGHT
END:VTIMEZONE
BEGIN:VEVENT
UID:ai1ec-3537@asean.org.nz
DTSTAMP:20180123T171855Z
CATEGORIES:
CONTACT:Ms. Thilaga Sivaraman\; +60103673256\; execsec@mnzcc.org.my\; https
 ://www.mnzcc.org.my/economic-review-2017/#!event-register/2017/4/6/economi
 c-review-2017
DESCRIPTION:
DTSTART;TZID=Pacific/Auckland:20170406T160000
DTEND;TZID=Pacific/Auckland:20170406T193000
LOCATION:Sheraton Imperial Hotel Kuala Lumpur
SEQUENCE:0
SUMMARY:MNZCC Economic Review 2017
URL:http://asean.org.nz/event/mnzcc-economic-review-2017/
X-COST-TYPE:free
END:VEVENT
END:VCALENDAR
