BEGIN:VCALENDAR
VERSION:2.0
PRODID:-//192.185.180.67//NONSGML kigkonsult.se iCalcreator 2.20//
CALSCALE:GREGORIAN
METHOD:PUBLISH
X-WR-CALNAME:ASEAN
X-WR-CALDESC:
X-FROM-URL:http://asean.org.nz
X-WR-TIMEZONE:Pacific/Auckland
BEGIN:VTIMEZONE
TZID:Pacific/Auckland
X-LIC-LOCATION:Pacific/Auckland
BEGIN:STANDARD
DTSTART:20180401T030000
TZOFFSETFROM:+1300
TZOFFSETTO:+1200
TZNAME:NZST
END:STANDARD
BEGIN:DAYLIGHT
DTSTART:20170924T020000
TZOFFSETFROM:+1200
TZOFFSETTO:+1300
TZNAME:NZDT
END:DAYLIGHT
END:VTIMEZONE
BEGIN:VEVENT
UID:ai1ec-3540@asean.org.nz
DTSTAMP:20180123T171918Z
CATEGORIES:
CONTACT:Ms. Thilaga Sivaraman\; +6010-3673256\; mnzcc@mnzcc.org.my\; https:
 //www.mnzcc.org.my/2017-anzac-day-golf-tournament/#!event-register/2017/4/
 25/2017-anzac-day-golf-tournament
DESCRIPTION:
DTSTART;TZID=Pacific/Auckland:20170425T123000
DTEND;TZID=Pacific/Auckland:20170425T133000
LOCATION:Sultan Abdul Aziz Shah Golf and Country Club
SEQUENCE:0
SUMMARY:MNZCC 2017 ANZAC DAY GOLF TOURNAMENT
URL:http://asean.org.nz/event/mnzcc-2017-anzac-day-golf-tournament/
X-COST-TYPE:free
END:VEVENT
END:VCALENDAR
