BEGIN:VCALENDAR
VERSION:2.0
PRODID:-//192.185.180.67//NONSGML kigkonsult.se iCalcreator 2.20//
CALSCALE:GREGORIAN
METHOD:PUBLISH
X-WR-CALNAME:ASEAN
X-WR-CALDESC:
X-FROM-URL:http://asean.org.nz
X-WR-TIMEZONE:Pacific/Auckland
BEGIN:VTIMEZONE
TZID:Pacific/Auckland
X-LIC-LOCATION:Pacific/Auckland
BEGIN:STANDARD
DTSTART:20180401T030000
TZOFFSETFROM:+1300
TZOFFSETTO:+1200
TZNAME:NZST
END:STANDARD
BEGIN:DAYLIGHT
DTSTART:20170924T020000
TZOFFSETFROM:+1200
TZOFFSETTO:+1300
TZNAME:NZDT
END:DAYLIGHT
END:VTIMEZONE
BEGIN:VEVENT
UID:ai1ec-3543@asean.org.nz
DTSTAMP:20180123T171936Z
CATEGORIES:
CONTACT:
DESCRIPTION:There is no charge for this event but for security reasons\, re
 gistration is essential. Register online by 28 April 2017
DTSTART;TZID=Pacific/Auckland:20170502T173000
DTEND;TZID=Pacific/Auckland:20170502T193000
GEO:-41.275295;+174.778031
LOCATION:The Royal Thai Embassy @ 110 Molesworth St\, Thorndon\, Wellington
  6011\, New Zealand
SEQUENCE:0
SUMMARY:Doing Business in Thailand
URL:http://asean.org.nz/event/doing-business-in-thailand/
X-COST-TYPE:free
X-ALT-DESC;FMTTYPE=text/html:<!DOCTYPE HTML PUBLIC '-//W3C//DTD HTML 3.2//E
 N'>\\n<HTML>\\n<HEAD>\\n<TITLE></TITLE>\\n</HEAD>\\n<BODY><p>There is no c
 harge for this event but for security reasons\, registration is essential.
  Register online by 28 April 2017</p>\n</BODY></HTML>
END:VEVENT
END:VCALENDAR
