BEGIN:VCALENDAR
VERSION:2.0
PRODID:-//192.185.180.67//NONSGML kigkonsult.se iCalcreator 2.20//
CALSCALE:GREGORIAN
METHOD:PUBLISH
X-WR-CALNAME:ASEAN
X-WR-CALDESC:
X-FROM-URL:http://asean.org.nz
X-WR-TIMEZONE:Pacific/Auckland
BEGIN:VTIMEZONE
TZID:Pacific/Auckland
X-LIC-LOCATION:Pacific/Auckland
BEGIN:STANDARD
DTSTART:20180401T030000
TZOFFSETFROM:+1300
TZOFFSETTO:+1200
TZNAME:NZST
END:STANDARD
BEGIN:DAYLIGHT
DTSTART:20170924T020000
TZOFFSETFROM:+1200
TZOFFSETTO:+1300
TZNAME:NZDT
END:DAYLIGHT
END:VTIMEZONE
BEGIN:VEVENT
UID:ai1ec-3545@asean.org.nz
DTSTAMP:20180123T172018Z
CATEGORIES:
CONTACT:
DESCRIPTION:Trade Officials from around ASEAN\, Australia and New Zealand a
 re meeting in Auckland from 29 May – 3 June 2017. We have the opportunity 
 to connect with a wide range of senior officials and business people\, hea
 r about developments in the AANZFTA General Review Process and discuss pot
 ential improvements – all with networking to close.\nThe NZ Ministry of Fo
 reign Affairs and Trade and the ASEAN NZ Business Council warmly invites y
 ou to save the date for this event.\nBookings open on -Site Soon.
DTSTART;TZID=Pacific/Auckland:20170531T173000
DTEND;TZID=Pacific/Auckland:20170531T193000
GEO:-36.84846;+174.763332
LOCATION:Crown Plaza Hotel @ Auckland\, New Zealand
SEQUENCE:0
SUMMARY:ASEAN Officials and Business Networking Event
URL:http://asean.org.nz/event/asean-officials-and-business-networking-event
 /
X-COST-TYPE:free
X-ALT-DESC;FMTTYPE=text/html:<!DOCTYPE HTML PUBLIC '-//W3C//DTD HTML 3.2//E
 N'>\\n<HTML>\\n<HEAD>\\n<TITLE></TITLE>\\n</HEAD>\\n<BODY><p>Trade Officia
 ls from around ASEAN\, Australia and New Zealand are meeting in Auckland f
 rom 29 May – 3 June 2017. We have the opportunity to connect with a wide r
 ange of senior officials and business people\, hear about developments in 
 the AANZFTA General Review Process and discuss potential improvements – al
 l with networking to close.</p>\n<p>The NZ Ministry of Foreign Affairs and
  Trade and the ASEAN NZ Business Council warmly invites you to save the da
 te for this event.</p>\n<p>Bookings open on -Site Soon.</p>\n</BODY></HTML
 >
END:VEVENT
END:VCALENDAR
