BEGIN:VCALENDAR
VERSION:2.0
PRODID:-//192.185.180.67//NONSGML kigkonsult.se iCalcreator 2.20//
CALSCALE:GREGORIAN
METHOD:PUBLISH
X-WR-CALNAME:ASEAN
X-WR-CALDESC:
X-FROM-URL:http://asean.org.nz
X-WR-TIMEZONE:Pacific/Auckland
BEGIN:VTIMEZONE
TZID:Pacific/Auckland
X-LIC-LOCATION:Pacific/Auckland
BEGIN:STANDARD
DTSTART:20180401T030000
TZOFFSETFROM:+1300
TZOFFSETTO:+1200
TZNAME:NZST
END:STANDARD
BEGIN:DAYLIGHT
DTSTART:20170924T020000
TZOFFSETFROM:+1200
TZOFFSETTO:+1300
TZNAME:NZDT
END:DAYLIGHT
END:VTIMEZONE
BEGIN:VEVENT
UID:ai1ec-3546@asean.org.nz
DTSTAMP:20180123T172721Z
CATEGORIES:
CONTACT:Ms. Thilaga Sivaraman\; +6010-3673256\; execsec@mnzcc.org.my\; http
 s://www.mnzcc.org.my/new-zealand-annual-dinner-and-dance-2017/#!event-regi
 ster/2017/11/25/new-zealand-annual-dinner-and-dance-2017
DESCRIPTION:
DTSTART;TZID=Pacific/Auckland:20171125T190000
DTEND;TZID=Pacific/Auckland:20171126T010000
LOCATION:Shangri La Hotel Kuala Lumpur
SEQUENCE:0
SUMMARY:NEW ZEALAND ANNUAL DINNER AND DANCE 2017
URL:http://asean.org.nz/event/new-zealand-annual-dinner-and-dance-2017/
X-COST-TYPE:free
END:VEVENT
END:VCALENDAR
