BEGIN:VCALENDAR
VERSION:2.0
PRODID:-//192.185.180.67//NONSGML kigkonsult.se iCalcreator 2.20//
CALSCALE:GREGORIAN
METHOD:PUBLISH
X-WR-CALNAME:ASEAN
X-WR-CALDESC:
X-FROM-URL:http://asean.org.nz
X-WR-TIMEZONE:Pacific/Auckland
BEGIN:VTIMEZONE
TZID:Pacific/Auckland
X-LIC-LOCATION:Pacific/Auckland
BEGIN:STANDARD
DTSTART:20180401T030000
TZOFFSETFROM:+1300
TZOFFSETTO:+1200
TZNAME:NZST
END:STANDARD
BEGIN:DAYLIGHT
DTSTART:20170924T020000
TZOFFSETFROM:+1200
TZOFFSETTO:+1300
TZNAME:NZDT
END:DAYLIGHT
END:VTIMEZONE
BEGIN:VEVENT
UID:ai1ec-3551@asean.org.nz
DTSTAMP:20180123T172101Z
CATEGORIES:
CONTACT:
DESCRIPTION:Anne Lochoff\, a NZTE Beachhead Advisor in Singapore\nHow NZ Co
 mpanies can take advantage of ASEAN’s commitment to high tech\, high growt
 h cities\nThe Cocktail event will take place directly after the short ANZB
 C AGM
DTSTART;TZID=Pacific/Auckland:20170615T173000
DTEND;TZID=Pacific/Auckland:20170615T203000
GEO:-36.847338;+174.763991
LOCATION:ANZ Bank @ Albert St\, Auckland\, 1010\, New Zealand
SEQUENCE:0
SUMMARY:Cocktail and Keynote Speaker event
URL:http://asean.org.nz/event/cocktail-and-keynote-speaker-event/
X-COST-TYPE:free
X-ALT-DESC;FMTTYPE=text/html:<!DOCTYPE HTML PUBLIC '-//W3C//DTD HTML 3.2//E
 N'>\\n<HTML>\\n<HEAD>\\n<TITLE></TITLE>\\n</HEAD>\\n<BODY><p>Anne Lochoff\
 , a NZTE Beachhead Advisor in Singapore<br />\nHow NZ Companies can take a
 dvantage of ASEAN’s commitment to high tech\, high growth cities</p>\n<p>T
 he Cocktail event will take place directly after the short ANZBC AGM</p>\n
 </BODY></HTML>
END:VEVENT
END:VCALENDAR
