BEGIN:VCALENDAR
VERSION:2.0
PRODID:-//192.185.180.67//NONSGML kigkonsult.se iCalcreator 2.20//
CALSCALE:GREGORIAN
METHOD:PUBLISH
X-WR-CALNAME:ASEAN
X-WR-CALDESC:
X-FROM-URL:http://asean.org.nz
X-WR-TIMEZONE:Pacific/Auckland
BEGIN:VTIMEZONE
TZID:Pacific/Auckland
X-LIC-LOCATION:Pacific/Auckland
BEGIN:STANDARD
DTSTART:20180401T030000
TZOFFSETFROM:+1300
TZOFFSETTO:+1200
TZNAME:NZST
END:STANDARD
BEGIN:DAYLIGHT
DTSTART:20170924T020000
TZOFFSETFROM:+1200
TZOFFSETTO:+1300
TZNAME:NZDT
END:DAYLIGHT
END:VTIMEZONE
BEGIN:VEVENT
UID:ai1ec-3560@asean.org.nz
DTSTAMP:20180123T171953Z
CATEGORIES:
CONTACT:Ms. Thilaga Sivaraman\; +6010-3673256\; execsec@mnzcc.org.my\; http
 s://www.mnzcc.org.my/a-conversation-with-ceo-of-investkl-datuk-zainal-aman
 shah/#!event-register/2017/5/25/a-conversation-with-ceo-of-investkl-datuk-
 zainal-amanshah
DESCRIPTION:
DTSTART;TZID=Pacific/Auckland:20170525T183000
DTEND;TZID=Pacific/Auckland:20170525T213000
GEO:+03.152724;+101.725573
LOCATION:Belgium Ambassador Residence @ 12\, Jalan Langgak Golf\, Kelab Gol
 f di Raja Selangor\, 55000 Kuala Lumpur\, Wilayah Persekutuan Kuala Lumpur
 \, Malaysia
SEQUENCE:0
SUMMARY:MNZCC A Conversation with CEO of InvestKL\, Datuk Zainal Amanshah
URL:http://asean.org.nz/event/mnzcc-a-conversation-with-ceo-of-investkl-dat
 uk-zainal-amanshah/
X-COST-TYPE:free
END:VEVENT
END:VCALENDAR
