BEGIN:VCALENDAR
VERSION:2.0
PRODID:-//192.185.180.67//NONSGML kigkonsult.se iCalcreator 2.20//
CALSCALE:GREGORIAN
METHOD:PUBLISH
X-WR-CALNAME:ASEAN
X-WR-CALDESC:
X-FROM-URL:http://asean.org.nz
X-WR-TIMEZONE:Pacific/Auckland
BEGIN:VTIMEZONE
TZID:Pacific/Auckland
X-LIC-LOCATION:Pacific/Auckland
BEGIN:STANDARD
DTSTART:20180401T030000
TZOFFSETFROM:+1300
TZOFFSETTO:+1200
TZNAME:NZST
END:STANDARD
BEGIN:DAYLIGHT
DTSTART:20170924T020000
TZOFFSETFROM:+1200
TZOFFSETTO:+1300
TZNAME:NZDT
END:DAYLIGHT
END:VTIMEZONE
BEGIN:VEVENT
UID:ai1ec-3564@asean.org.nz
DTSTAMP:20180123T172215Z
CATEGORIES:
CONTACT:
DESCRIPTION:A leading ASEAN Tech Organisation is hosting an International T
 ech Summit on 28-29 July in Bangkok. Said to be the largest of it’s kind\,
  with an estimated 6\,000 participants this is pitched at the start-up and
  general technology audience.\nContact the Secretary for more informtion
DTSTART;TZID=Pacific/Auckland:20170728T090000
DTEND;TZID=Pacific/Auckland:20170729T170000
GEO:+13.756331;+100.501765
LOCATION:Bangkok\, Thailand
SEQUENCE:0
SUMMARY:Techsauce Global Summit – Bangkok
URL:http://asean.org.nz/event/techsauce-global-summit-bangkok/
X-COST-TYPE:free
X-ALT-DESC;FMTTYPE=text/html:<!DOCTYPE HTML PUBLIC '-//W3C//DTD HTML 3.2//E
 N'>\\n<HTML>\\n<HEAD>\\n<TITLE></TITLE>\\n</HEAD>\\n<BODY><p>A leading ASE
 AN Tech Organisation is hosting an International Tech Summit on 28-29 July
  in Bangkok. Said to be the largest of it’s kind\, with an estimated 6\,00
 0 participants this is pitched at the start-up and general technology audi
 ence.</p>\n<p>Contact the Secretary for more informtion</p>\n</BODY></HTML
 >
END:VEVENT
END:VCALENDAR
