BEGIN:VCALENDAR
VERSION:2.0
PRODID:-//192.185.180.67//NONSGML kigkonsult.se iCalcreator 2.20//
CALSCALE:GREGORIAN
METHOD:PUBLISH
X-WR-CALNAME:ASEAN
X-WR-CALDESC:
X-FROM-URL:http://asean.org.nz
X-WR-TIMEZONE:Pacific/Auckland
BEGIN:VTIMEZONE
TZID:Pacific/Auckland
X-LIC-LOCATION:Pacific/Auckland
BEGIN:STANDARD
DTSTART:20180401T030000
TZOFFSETFROM:+1300
TZOFFSETTO:+1200
TZNAME:NZST
END:STANDARD
BEGIN:DAYLIGHT
DTSTART:20170924T020000
TZOFFSETFROM:+1200
TZOFFSETTO:+1300
TZNAME:NZDT
END:DAYLIGHT
END:VTIMEZONE
BEGIN:VEVENT
UID:ai1ec-3571@asean.org.nz
DTSTAMP:20180123T172505Z
CATEGORIES:
CONTACT:
DESCRIPTION:This year marks the 50th Anniversary of the formation of the AS
 EAN organisation and following the well acknowledged success of their 2015
  Forum\, ANZBC and AUT University are organising another one this year to 
 mark this important anniversary.\nOn the time honoured principle that if i
 t ain’t broke don’t fix it\, the Forum will follow a similar format to 201
 5\, a full day event with plenary keynote speakers\, breakouts on specific
  topics and ample interaction and networking. A celebratory cocktail event
  will follow the formalities.\nTop business speakers from ASEAN itself hav
 e already been commissioned – Dr Sarasin Virapol\, Vice President of the h
 ugely influential Thai and global conglomerate\, CP Group and Robert MC Ya
 p\, Chairman Y3 Technologies\, Singapore\, leading specialists in Fintech 
 and other IT technology and as a Trustee of University of NSW\, an expert 
 on international education opportunities in ASEAN.\nThe organisers are fin
 alising the programme and a Forum website will be launched soon.\nMeantime
  please diarise Monday 16 October for an event which any ASEAN practitione
 r shouldn’t miss.\nWe’ll keep you up to date!
DTSTART;TZID=Pacific/Auckland:20171016T080000
DTEND;TZID=Pacific/Auckland:20171016T170000
SEQUENCE:0
SUMMARY:ANZBC and AUT bring you ASEAN Forum 2017
URL:http://asean.org.nz/event/anzbc-and-aut-bring-you-asean-forum-2017/
X-COST-TYPE:free
X-ALT-DESC;FMTTYPE=text/html:<!DOCTYPE HTML PUBLIC '-//W3C//DTD HTML 3.2//E
 N'>\\n<HTML>\\n<HEAD>\\n<TITLE></TITLE>\\n</HEAD>\\n<BODY><p>This year mar
 ks the 50th Anniversary of the formation of the ASEAN organisation and fol
 lowing the well acknowledged success of their 2015 Forum\, ANZBC and AUT U
 niversity are organising another one this year to mark this important anni
 versary.</p>\n<p>On the time honoured principle that if it ain’t broke don
 ’t fix it\, the Forum will follow a similar format to 2015\, a full day ev
 ent with plenary keynote speakers\, breakouts on specific topics and ample
  interaction and networking. A celebratory cocktail event will follow the 
 formalities.</p>\n<p>Top business speakers from ASEAN itself have already 
 been commissioned – Dr Sarasin Virapol\, Vice President of the hugely infl
 uential Thai and global conglomerate\, CP Group and Robert MC Yap\, Chairm
 an Y3 Technologies\, Singapore\, leading specialists in Fintech and other 
 IT technology and as a Trustee of University of NSW\, an expert on interna
 tional education opportunities in ASEAN.</p>\n<p>The organisers are finali
 sing the programme and a Forum website will be launched soon.</p>\n<p>Mean
 time please diarise Monday 16 October for an event which any ASEAN practit
 ioner shouldn’t miss.</p>\n<p>We’ll keep you up to date!</p>\n</BODY></HTM
 L>
END:VEVENT
END:VCALENDAR
