BEGIN:VCALENDAR
VERSION:2.0
PRODID:-//192.185.180.67//NONSGML kigkonsult.se iCalcreator 2.20//
CALSCALE:GREGORIAN
METHOD:PUBLISH
X-WR-CALNAME:ASEAN
X-WR-CALDESC:
X-FROM-URL:http://asean.org.nz
X-WR-TIMEZONE:Pacific/Auckland
BEGIN:VTIMEZONE
TZID:Pacific/Auckland
X-LIC-LOCATION:Pacific/Auckland
BEGIN:STANDARD
DTSTART:20180401T030000
TZOFFSETFROM:+1300
TZOFFSETTO:+1200
TZNAME:NZST
END:STANDARD
BEGIN:DAYLIGHT
DTSTART:20170924T020000
TZOFFSETFROM:+1200
TZOFFSETTO:+1300
TZNAME:NZDT
END:DAYLIGHT
END:VTIMEZONE
BEGIN:VEVENT
UID:ai1ec-3573@asean.org.nz
DTSTAMP:20180123T172154Z
CATEGORIES:
CONTACT:Ms. Thilaga Sivaraman\; +6010-3673256\; mnzcc@mnzcc.org.my\; https:
 //www.mnzcc.org.my/
DESCRIPTION:
DTSTART;TZID=Pacific/Auckland:20170727T170000
DTEND;TZID=Pacific/Auckland:20170727T203000
LOCATION:Perdana Hall\, Level 10\, MIDA\, Kuala Lumpur Sentral
SEQUENCE:0
SUMMARY:MNZCC Networking Evening & Talk – “Business Opportunities in Halal 
 Industry in Malaysia”
URL:http://asean.org.nz/event/mnzcc-networking-evening-talk-business-opport
 unities-in-halal-industry-in-malaysia/
X-COST-TYPE:free
END:VEVENT
END:VCALENDAR
