BEGIN:VCALENDAR
VERSION:2.0
PRODID:-//192.185.180.67//NONSGML kigkonsult.se iCalcreator 2.20//
CALSCALE:GREGORIAN
METHOD:PUBLISH
X-WR-CALNAME:ASEAN
X-WR-CALDESC:
X-FROM-URL:http://asean.org.nz
X-WR-TIMEZONE:Pacific/Auckland
BEGIN:VTIMEZONE
TZID:Pacific/Auckland
X-LIC-LOCATION:Pacific/Auckland
BEGIN:STANDARD
DTSTART:20180401T030000
TZOFFSETFROM:+1300
TZOFFSETTO:+1200
TZNAME:NZST
END:STANDARD
BEGIN:DAYLIGHT
DTSTART:20170924T020000
TZOFFSETFROM:+1200
TZOFFSETTO:+1300
TZNAME:NZDT
END:DAYLIGHT
END:VTIMEZONE
BEGIN:VEVENT
UID:ai1ec-3596@asean.org.nz
DTSTAMP:20180123T172747Z
CATEGORIES:
CONTACT:
DESCRIPTION:ANZBC with partners Export New Zealand are organising an aftern
 oon seminar (3 to 7.30 p.m.) on doing business with ASEAN in Wellington on
  Wednesday 15 November.\nThe event is being organised in association with 
 and as part of the business programme of the Southeast Asia Centre of Asia
  Pacific Excellence – SEACAPE – and will be held in the Rutherford Campus 
 of Victoria University.\nFull details to follow but meantime please block 
 out in your diary.
DTSTART;TZID=Pacific/Auckland:20171128T150000
DTEND;TZID=Pacific/Auckland:20171128T190000
GEO:-41.290402;+174.768662
LOCATION:Rutherford Campus @ Kelburn\, Wellington 6012\, New Zealand
SEQUENCE:0
SUMMARY:Doing business with ASEAN
URL:http://asean.org.nz/event/doing-business-with-asean/
X-COST-TYPE:free
X-ALT-DESC;FMTTYPE=text/html:<!DOCTYPE HTML PUBLIC '-//W3C//DTD HTML 3.2//E
 N'>\\n<HTML>\\n<HEAD>\\n<TITLE></TITLE>\\n</HEAD>\\n<BODY><p>ANZBC with pa
 rtners Export New Zealand are organising an afternoon seminar (3 to 7.30 p
 .m.) on doing business with ASEAN in Wellington on Wednesday 15 November.<
 /p>\n<p>The event is being organised in association with and as part of th
 e business programme of the Southeast Asia Centre of Asia Pacific Excellen
 ce – SEACAPE – and will be held in the Rutherford Campus of Victoria Unive
 rsity.</p>\n<p>Full details to follow but meantime please block out in you
 r diary.</p>\n</BODY></HTML>
END:VEVENT
END:VCALENDAR
