BEGIN:VCALENDAR
VERSION:2.0
PRODID:-//192.185.180.67//NONSGML kigkonsult.se iCalcreator 2.20//
CALSCALE:GREGORIAN
METHOD:PUBLISH
X-WR-CALNAME:ASEAN
X-WR-CALDESC:
X-FROM-URL:http://asean.org.nz
X-WR-TIMEZONE:Pacific/Auckland
BEGIN:VTIMEZONE
TZID:Pacific/Auckland
X-LIC-LOCATION:Pacific/Auckland
BEGIN:STANDARD
DTSTART:20180401T030000
TZOFFSETFROM:+1300
TZOFFSETTO:+1200
TZNAME:NZST
END:STANDARD
BEGIN:DAYLIGHT
DTSTART:20170924T020000
TZOFFSETFROM:+1200
TZOFFSETTO:+1300
TZNAME:NZDT
END:DAYLIGHT
END:VTIMEZONE
BEGIN:VEVENT
UID:ai1ec-3597@asean.org.nz
DTSTAMP:20180123T172346Z
CATEGORIES:
CONTACT:
DESCRIPTION:The Thai Embassy in Wellington is holding a morning seminar on 
 Tuesday\, 12th September in recognition of ASEAN’s 50th Anniversary. The s
 eminar promises interesting speakers from Thailand and New Zealand on the 
 theme of:\n“ASEAN-New Zealand Strategic Partnership: Pursuing Strategic De
 velopment Goals through Food\, Sustainable Agriculture and Innovation”\nFo
 r more details and to register\, please contact: secretary@thaiembassynz.o
 rg.nz
DTSTART;TZID=Pacific/Auckland:20170912T073000
DTEND;TZID=Pacific/Auckland:20170912T114500
SEQUENCE:0
SUMMARY:ASEAN-New Zealand Strategic Partnership
URL:http://asean.org.nz/event/asean-new-zealand-strategic-partnership/
X-COST-TYPE:free
X-ALT-DESC;FMTTYPE=text/html:<!DOCTYPE HTML PUBLIC '-//W3C//DTD HTML 3.2//E
 N'>\\n<HTML>\\n<HEAD>\\n<TITLE></TITLE>\\n</HEAD>\\n<BODY><p>The Thai Emba
 ssy in Wellington is holding a morning seminar on Tuesday\, 12th September
  in recognition of ASEAN’s 50th Anniversary. The seminar promises interest
 ing speakers from Thailand and New Zealand on the theme of:</p>\n<p>“ASEAN
 -New Zealand Strategic Partnership: Pursuing Strategic Development Goals t
 hrough Food\, Sustainable Agriculture and Innovation”</p>\n<p>For more det
 ails and to register\, please contact: <a href='mailto:secretary@thaiembas
 synz.org.nz'>secretary@thaiembassynz.org.nz</a></p>\n</BODY></HTML>
END:VEVENT
END:VCALENDAR
