BEGIN:VCALENDAR
VERSION:2.0
PRODID:-//192.185.180.67//NONSGML kigkonsult.se iCalcreator 2.20//
CALSCALE:GREGORIAN
METHOD:PUBLISH
X-WR-CALNAME:ASEAN
X-WR-CALDESC:
X-FROM-URL:http://asean.org.nz
X-WR-TIMEZONE:Pacific/Auckland
BEGIN:VTIMEZONE
TZID:Pacific/Auckland
X-LIC-LOCATION:Pacific/Auckland
BEGIN:STANDARD
DTSTART:20180401T030000
TZOFFSETFROM:+1300
TZOFFSETTO:+1200
TZNAME:NZST
END:STANDARD
BEGIN:DAYLIGHT
DTSTART:20170924T020000
TZOFFSETFROM:+1200
TZOFFSETTO:+1300
TZNAME:NZDT
END:DAYLIGHT
END:VTIMEZONE
BEGIN:VEVENT
UID:ai1ec-3601@asean.org.nz
DTSTAMP:20180123T172403Z
CATEGORIES:
CONTACT:
DESCRIPTION:The NZAL is holding it’s next event on 28 September\, 2017. ANZ
 BC members are invited to register and come along:\nVenue: Wintergarden Ro
 om\, The Northern Club\nTime: 4:30 pm networking for 5 pm start till 7:30 
 pm\nRegistration fee: $50 per person\nRegistrations can be made through th
 e link here: http://bit.ly/2h03qS6\nOn behalf of SUPERdiverse WOMEN\, nib 
 NZ limited and the U.S. Embassy\, it is our pleasure to invite you to the 
 inaugural SDW Voices\, with a line-up of top diverse leaders who will shar
 e their diverse journeys and key takeouts\, chaired by Mai Chen\, Founder 
 and Inaugural Chair of SUPERdiverse WOMEN.\nSpeakers include:\nBic Runga\n
 Barbara Ala’alatoa\, Chair\, Education Council of Aotearoa New Zealand\nCa
 rolyn Luey\, GM Enterprise Solutions and New Zealand\, MYOB\nPriti Ambani\
 , Co-Founder & COO\, The Next Billion\nRiahn Hoani\, Team Leader Claims\, 
 nib NZ limited\nKeynote speaker:\nSupported by U.S. Embassy\, and speaking
  for the first time in New Zealand
DTSTART;TZID=Pacific/Auckland:20170928T163000
DTEND;TZID=Pacific/Auckland:20170928T193000
GEO:-36.848949;+174.769194
LOCATION:Northern Club @ 21 Princes St\, Auckland\, 1010\, New Zealand
SEQUENCE:0
SUMMARY:The inaugural SDW Voices
URL:http://asean.org.nz/event/the-inaugural-sdw-voices/
X-COST-TYPE:free
X-ALT-DESC;FMTTYPE=text/html:<!DOCTYPE HTML PUBLIC '-//W3C//DTD HTML 3.2//E
 N'>\\n<HTML>\\n<HEAD>\\n<TITLE></TITLE>\\n</HEAD>\\n<BODY><p>The NZAL is h
 olding it’s next event on 28 September\, 2017. ANZBC members are invited t
 o register and come along:</p>\n<p>Venue: Wintergarden Room\, The Northern
  Club<br />\nTime: 4:30 pm networking for 5 pm start till 7:30 pm</p>\n<p>
 Registration fee: $50 per person</p>\n<p>Registrations can be made through
  the link here: <a href='http://bit.ly/2h03qS6'>http://bit.ly/2h03qS6</a><
 br />\nOn behalf of SUPERdiverse WOMEN\, nib NZ limited and the U.S. Embas
 sy\, it is our pleasure to invite you to the inaugural SDW Voices\, with a
  line-up of top diverse leaders who will share their diverse journeys and 
 key takeouts\, chaired by Mai Chen\, Founder and Inaugural Chair of SUPERd
 iverse WOMEN.</p>\n<p><strong>Speakers include:</strong><br />\nBic Runga<
 br />\nBarbara Ala’alatoa\, Chair\, Education Council of Aotearoa New Zeal
 and<br />\nCarolyn Luey\, GM Enterprise Solutions and New Zealand\, MYOB<b
 r />\nPriti Ambani\, Co-Founder & COO\, The Next Billion<br />\nRiahn Hoan
 i\, Team Leader Claims\, nib NZ limited</p>\n<p><strong>Keynote speaker:</
 strong><br />\nSupported by U.S. Embassy\, and speaking for the first time
  in New Zealand</p>\n</BODY></HTML>
END:VEVENT
END:VCALENDAR
