BEGIN:VCALENDAR
VERSION:2.0
PRODID:-//192.185.180.67//NONSGML kigkonsult.se iCalcreator 2.20//
CALSCALE:GREGORIAN
METHOD:PUBLISH
X-WR-CALNAME:ASEAN
X-WR-CALDESC:
X-FROM-URL:http://asean.org.nz
X-WR-TIMEZONE:Pacific/Auckland
BEGIN:VTIMEZONE
TZID:Pacific/Auckland
X-LIC-LOCATION:Pacific/Auckland
BEGIN:STANDARD
DTSTART:20180401T030000
TZOFFSETFROM:+1300
TZOFFSETTO:+1200
TZNAME:NZST
END:STANDARD
BEGIN:DAYLIGHT
DTSTART:20170924T020000
TZOFFSETFROM:+1200
TZOFFSETTO:+1300
TZNAME:NZDT
END:DAYLIGHT
END:VTIMEZONE
BEGIN:VEVENT
UID:ai1ec-3603@asean.org.nz
DTSTAMP:20180123T172444Z
CATEGORIES:
CONTACT:Ms. Thilaga Sivaraman\; +6010-3673256\; communications@mnzcc.org.my
 \; https://mnzcc.org.my/kuala-lumpur-alumni-reception-victoria-university-
 of-wellington/#!event-register/2017/10/10/kuala-lumpur-alumni-reception-vi
 ctoria-university-of-wellington
DESCRIPTION:
DTSTART;TZID=Pacific/Auckland:20171010T193000
DTEND;TZID=Pacific/Auckland:20171010T213000
GEO:+03.15266;+101.7264
LOCATION:NZ High Commissioner's Residence @ 15\, Jalan Langgak Golf\, Kelab
  Golf di Raja Selangor\, 55000 Kuala Lumpur\, Wilayah Persekutuan Kuala Lu
 mpur\, Malaysia
SEQUENCE:0
SUMMARY:Kuala Lumpur Alumni Reception – Victoria University of Wellington
URL:http://asean.org.nz/event/kuala-lumpur-alumni-reception-victoria-univer
 sity-of-wellington/
X-COST-TYPE:free
END:VEVENT
END:VCALENDAR
