BEGIN:VCALENDAR
VERSION:2.0
PRODID:-//192.185.180.67//NONSGML kigkonsult.se iCalcreator 2.20//
CALSCALE:GREGORIAN
METHOD:PUBLISH
X-WR-CALNAME:ASEAN
X-WR-CALDESC:
X-FROM-URL:http://asean.org.nz
X-WR-TIMEZONE:Pacific/Auckland
BEGIN:VTIMEZONE
TZID:Pacific/Auckland
X-LIC-LOCATION:Pacific/Auckland
BEGIN:STANDARD
DTSTART:20180401T030000
TZOFFSETFROM:+1300
TZOFFSETTO:+1200
TZNAME:NZST
END:STANDARD
BEGIN:DAYLIGHT
DTSTART:20170924T020000
TZOFFSETFROM:+1200
TZOFFSETTO:+1300
TZNAME:NZDT
END:DAYLIGHT
END:VTIMEZONE
BEGIN:VEVENT
UID:ai1ec-3605@asean.org.nz
DTSTAMP:20180123T172524Z
CATEGORIES:
CONTACT:
DESCRIPTION:More details to follow soon\, but for now please diarise the 27
 th October for a business briefing with the Ambassador and Trade Commissio
 ner in Manila coming direct via video link PLUS time for networking with y
 our colleagues. This is a limited numbers event.\nDate: Friday\, 27 Octobe
 r\nTime: 12pm with light lunch\nVenue: MFAT Auckland\, 139 Quay St\nRegist
 rations open soon
DTSTART;TZID=Pacific/Auckland:20171027T120000
DTEND;TZID=Pacific/Auckland:20171027T150000
SEQUENCE:0
SUMMARY:Philippine Business Briefing
URL:http://asean.org.nz/event/philippine-business-briefing/
X-COST-TYPE:free
X-ALT-DESC;FMTTYPE=text/html:<!DOCTYPE HTML PUBLIC '-//W3C//DTD HTML 3.2//E
 N'>\\n<HTML>\\n<HEAD>\\n<TITLE></TITLE>\\n</HEAD>\\n<BODY><p>More details 
 to follow soon\, but for now please diarise the 27th October for a busines
 s briefing with the Ambassador and Trade Commissioner in Manila coming dir
 ect via video link PLUS time for networking with your colleagues. This is 
 a limited numbers event.</p>\n<p>Date: Friday\, 27 October</p>\n<p>Time: 1
 2pm with light lunch</p>\n<p>Venue: MFAT Auckland\, 139 Quay St</p>\n<p>Re
 gistrations open soon</p>\n</BODY></HTML>
END:VEVENT
END:VCALENDAR
