BEGIN:VCALENDAR
VERSION:2.0
PRODID:-//192.185.180.67//NONSGML kigkonsult.se iCalcreator 2.20//
CALSCALE:GREGORIAN
METHOD:PUBLISH
X-WR-CALNAME:ASEAN
X-WR-CALDESC:
X-FROM-URL:http://asean.org.nz
X-WR-TIMEZONE:Pacific/Auckland
BEGIN:VTIMEZONE
TZID:Pacific/Auckland
X-LIC-LOCATION:Pacific/Auckland
BEGIN:STANDARD
DTSTART:20180401T030000
TZOFFSETFROM:+1300
TZOFFSETTO:+1200
TZNAME:NZST
END:STANDARD
BEGIN:DAYLIGHT
DTSTART:20170924T020000
TZOFFSETFROM:+1200
TZOFFSETTO:+1300
TZNAME:NZDT
END:DAYLIGHT
END:VTIMEZONE
BEGIN:VEVENT
UID:ai1ec-3606@asean.org.nz
DTSTAMP:20180123T172639Z
CATEGORIES:
CONTACT:
DESCRIPTION:More details to follow soon\, but for now please diarise the 22
 nd November for a business briefing with the High Commissioner Jonathan Au
 stin and Trade Commissioner Hayley Horan in Singapore coming direct via vi
 deo link PLUS time for networking with your colleagues.\nThis is a limited
  numbers event.\nDate: 22 November\nTime: 12pm with light lunch\nVenue: MF
 AT Auckland\, 139 Quay St\nRegistrations not yet open
DTSTART;TZID=Pacific/Auckland:20171122T120000
DTEND;TZID=Pacific/Auckland:20171122T143000
SEQUENCE:0
SUMMARY:Singapore Market Update
URL:http://asean.org.nz/event/singapore-market-update/
X-COST-TYPE:free
X-ALT-DESC;FMTTYPE=text/html:<!DOCTYPE HTML PUBLIC '-//W3C//DTD HTML 3.2//E
 N'>\\n<HTML>\\n<HEAD>\\n<TITLE></TITLE>\\n</HEAD>\\n<BODY><p>More details 
 to follow soon\, but for now please diarise the 22nd November for a busine
 ss briefing with the High Commissioner Jonathan Austin and Trade Commissio
 ner Hayley Horan in Singapore coming direct via video link PLUS time for n
 etworking with your colleagues.<br />\nThis is a limited numbers event.</p
 >\n<p><strong>Date:</strong> 22 November</p>\n<p><strong>Time:</strong> 12
 pm with light lunch</p>\n<p><strong>Venue:</strong> MFAT Auckland\, 139 Qu
 ay St</p>\n<p>Registrations not yet open</p>\n</BODY></HTML>
END:VEVENT
END:VCALENDAR
