BEGIN:VCALENDAR
VERSION:2.0
PRODID:-//192.185.180.67//NONSGML kigkonsult.se iCalcreator 2.20//
CALSCALE:GREGORIAN
METHOD:PUBLISH
X-WR-CALNAME:ASEAN
X-WR-CALDESC:
X-FROM-URL:http://asean.org.nz
X-WR-TIMEZONE:Pacific/Auckland
BEGIN:VTIMEZONE
TZID:Pacific/Auckland
X-LIC-LOCATION:Pacific/Auckland
BEGIN:STANDARD
DTSTART:20180401T030000
TZOFFSETFROM:+1300
TZOFFSETTO:+1200
TZNAME:NZST
END:STANDARD
BEGIN:DAYLIGHT
DTSTART:20170924T020000
TZOFFSETFROM:+1200
TZOFFSETTO:+1300
TZNAME:NZDT
END:DAYLIGHT
END:VTIMEZONE
BEGIN:VEVENT
UID:ai1ec-3612@asean.org.nz
DTSTAMP:20180123T172555Z
CATEGORIES:
CONTACT:Monica Portillo\; +65 62357119\; Info@nzchamber.org.sg\; https://ww
 w.eventbrite.co.nz/e/taking-on-the-world-asia-after-five-singapore-network
 ing-event-tickets-39205827686
DESCRIPTION:Asia After Five is a social networking event hosted by the Asia
  New Zealand Foundation in conjunction with New Zealand High Commission an
 d the New Chamber Singapore.\nMix and mingle over drinks and nibbles\, hea
 r stories from inspiring individuals and get a taste of the many strands o
 f the New Zealand-Asia relationship.
DTSTART;TZID=Pacific/Auckland:20171101T173000
DTEND;TZID=Pacific/Auckland:20171101T190000
GEO:+01.28596;+103.847848
LOCATION:New Zealand High Commission @ 1 George St\, One George Street\, Si
 ngapore 049145
SEQUENCE:0
SUMMARY:Asia After Five – Singapore edition
URL:http://asean.org.nz/event/asia-after-five-singapore-edition/
X-COST-TYPE:free
X-ALT-DESC;FMTTYPE=text/html:<!DOCTYPE HTML PUBLIC '-//W3C//DTD HTML 3.2//E
 N'>\\n<HTML>\\n<HEAD>\\n<TITLE></TITLE>\\n</HEAD>\\n<BODY><p>Asia After Fi
 ve is a social networking event hosted by the Asia New Zealand Foundation 
 in conjunction with New Zealand High Commission and the New Chamber Singap
 ore.</p>\n<p>Mix and mingle over drinks and nibbles\, hear stories from in
 spiring individuals and get a taste of the many strands of the New Zealand
 -Asia relationship.</p>\n</BODY></HTML>
X-TAGS;LANGUAGE=en-US:New Zealand Chamber Singapore\,NZCC\,Nzchamber\,Singa
 pore
END:VEVENT
END:VCALENDAR
