BEGIN:VCALENDAR
VERSION:2.0
PRODID:-//192.185.180.67//NONSGML kigkonsult.se iCalcreator 2.20//
CALSCALE:GREGORIAN
METHOD:PUBLISH
X-WR-CALNAME:ASEAN
X-WR-CALDESC:
X-FROM-URL:http://asean.org.nz
X-WR-TIMEZONE:Pacific/Auckland
BEGIN:VTIMEZONE
TZID:Pacific/Auckland
X-LIC-LOCATION:Pacific/Auckland
BEGIN:STANDARD
DTSTART:20180401T030000
TZOFFSETFROM:+1300
TZOFFSETTO:+1200
TZNAME:NZST
END:STANDARD
BEGIN:DAYLIGHT
DTSTART:20170924T020000
TZOFFSETFROM:+1200
TZOFFSETTO:+1300
TZNAME:NZDT
END:DAYLIGHT
END:VTIMEZONE
BEGIN:VEVENT
UID:ai1ec-3614@asean.org.nz
DTSTAMP:20180123T172807Z
CATEGORIES:
CONTACT:Monica Portillo\; +65 6235 7119\; Info@nzchamber.org.sg\; https://w
 ww.nzchamber.org.sg/events/christmas-networking-drinks-join-us/
DESCRIPTION:The New Zealand Chamber Singapore in conjunction our friends fr
 om CanCham bring you the last of our networking drinks for the year at Moa
  Tiki\, New Zealand Bar & Grill in Chijmes!\nTickets: https://www.nzchambe
 r.org.sg/events/christmas-networking-drinks-join-us/.
DTSTART;TZID=Pacific/Auckland:20171130T190000
DTEND;TZID=Pacific/Auckland:20171130T210000
GEO:+01.295059;+103.852152
LOCATION:Moa Tiki\, New Zealand Bar & Grill @ 30 Victoria Street\, Singapor
 e 187996
SEQUENCE:0
SUMMARY:Christmas Network Drinks
URL:http://asean.org.nz/event/christmas-network-drinks/
X-COST-TYPE:external
X-ALT-DESC;FMTTYPE=text/html:<!DOCTYPE HTML PUBLIC '-//W3C//DTD HTML 3.2//E
 N'>\\n<HTML>\\n<HEAD>\\n<TITLE></TITLE>\\n</HEAD>\\n<BODY><p>The New Zeala
 nd Chamber Singapore in conjunction our friends from CanCham bring you the
  last of our networking drinks for the year at Moa Tiki\, New Zealand Bar 
 & Grill in Chijmes!</p>\n<p>Tickets: <a class='ai1ec-ticket-url-exported' 
 href='https://www.nzchamber.org.sg/events/christmas-networking-drinks-join
 -us/'>https://www.nzchamber.org.sg/events/christmas-networking-drinks-join
 -us/</a>.</p></BODY></HTML>
X-COST:From $50
X-TICKETS-URL:https://www.nzchamber.org.sg/events/christmas-networking-drin
 ks-join-us/
END:VEVENT
END:VCALENDAR
